BEGIN:VCALENDAR
VERSION:2.0
PRODID:-//Queeres Zentrum Göttingen - ECPv6.15.20//NONSGML v1.0//EN
CALSCALE:GREGORIAN
METHOD:PUBLISH
X-WR-CALNAME:Queeres Zentrum Göttingen
X-ORIGINAL-URL:https://queeres-zentrum-goettingen.de
X-WR-CALDESC:Veranstaltungen für Queeres Zentrum Göttingen
REFRESH-INTERVAL;VALUE=DURATION:PT1H
X-Robots-Tag:noindex
X-PUBLISHED-TTL:PT1H
BEGIN:VTIMEZONE
TZID:Europe/Berlin
BEGIN:DAYLIGHT
TZOFFSETFROM:+0100
TZOFFSETTO:+0200
TZNAME:CEST
DTSTART:20210328T010000
END:DAYLIGHT
BEGIN:STANDARD
TZOFFSETFROM:+0200
TZOFFSETTO:+0100
TZNAME:CET
DTSTART:20211031T010000
END:STANDARD
BEGIN:DAYLIGHT
TZOFFSETFROM:+0100
TZOFFSETTO:+0200
TZNAME:CEST
DTSTART:20220327T010000
END:DAYLIGHT
BEGIN:STANDARD
TZOFFSETFROM:+0200
TZOFFSETTO:+0100
TZNAME:CET
DTSTART:20221030T010000
END:STANDARD
BEGIN:DAYLIGHT
TZOFFSETFROM:+0100
TZOFFSETTO:+0200
TZNAME:CEST
DTSTART:20230326T010000
END:DAYLIGHT
BEGIN:STANDARD
TZOFFSETFROM:+0200
TZOFFSETTO:+0100
TZNAME:CET
DTSTART:20231029T010000
END:STANDARD
END:VTIMEZONE
BEGIN:VEVENT
DTSTART;TZID=Europe/Berlin:20220504T190000
DTEND;TZID=Europe/Berlin:20220504T210000
DTSTAMP:20260424T190346
CREATED:20220427T090837Z
LAST-MODIFIED:20220427T090837Z
UID:2646-1651690800-1651698000@queeres-zentrum-goettingen.de
SUMMARY:Eltern Info-Abend der Trans*Beratung Göttingen
DESCRIPTION:Liebe Eltern und Bezugspersonen\, \n  \nIhr Kind oder ein junger Mensch\, den Sie begleiten\, ist trans* oder fragt sich ob er trans* sein könnte? Dann haben Sie sicher viele Fragen. Die Trans*Beratung Göttingen lädt Sie herzlich zu einem einstiegsfreundlichen Infoabend ein\, um einen ersten Überblick über das Thema zu geben. Insbesondere möchten wir Sie dabei unterstützen Ihr Kind in seinen Prozessen zu begleiten und zu stärken. Der Fokus liegt dabei auf der Begleitung Minderjähriger. \n  \nWir erläutern das Wichtigste rund um Namen und Pronomen\, rechtliche und medizinische Möglichkeiten einer Transition für Jugendliche und erklären\, warum dieser Weg immer ein sehr individueller ist. Sie können Fragen stellen und sich mit anderen Eltern und Bezugspersonen austauschen. Wer danach gern mehr wissen und besprechen will\, kann gerne an der Angehörigengruppe Trans* teilnehmen oder ein Beratungsgespräch vereinbaren. \n  \nNächster Termin für den Infoabend: 04. Mai 2022\, 19:00 – 21:00\, online \nAnmeldung bitte an kontakt[at]transberatung-goettingen.de – wir schicken Ihnen einen Zoom-Link zu.
URL:https://queeres-zentrum-goettingen.de/event/eltern-info-abend-der-transberatung-goettingen/
LOCATION:Online
CATEGORIES:Beratung,Trans
ATTACH;FMTTYPE=image/jpeg:https://queeres-zentrum-goettingen.de/wp-content/uploads/2022/04/elternabend-tb.jpg
ORGANIZER;CN="Trans*Beratung G%C3%B6ttingen":MAILTO:kontakt@transberatung-goettingen.de
END:VEVENT
END:VCALENDAR