BEGIN:VCALENDAR
VERSION:2.0
PRODID:-//Queeres Zentrum Göttingen - ECPv6.15.20//NONSGML v1.0//EN
CALSCALE:GREGORIAN
METHOD:PUBLISH
X-WR-CALNAME:Queeres Zentrum Göttingen
X-ORIGINAL-URL:https://queeres-zentrum-goettingen.de
X-WR-CALDESC:Veranstaltungen für Queeres Zentrum Göttingen
REFRESH-INTERVAL;VALUE=DURATION:PT1H
X-Robots-Tag:noindex
X-PUBLISHED-TTL:PT1H
BEGIN:VTIMEZONE
TZID:Europe/Berlin
BEGIN:DAYLIGHT
TZOFFSETFROM:+0100
TZOFFSETTO:+0200
TZNAME:CEST
DTSTART:20230326T010000
END:DAYLIGHT
BEGIN:STANDARD
TZOFFSETFROM:+0200
TZOFFSETTO:+0100
TZNAME:CET
DTSTART:20231029T010000
END:STANDARD
BEGIN:DAYLIGHT
TZOFFSETFROM:+0100
TZOFFSETTO:+0200
TZNAME:CEST
DTSTART:20240331T010000
END:DAYLIGHT
BEGIN:STANDARD
TZOFFSETFROM:+0200
TZOFFSETTO:+0100
TZNAME:CET
DTSTART:20241027T010000
END:STANDARD
BEGIN:DAYLIGHT
TZOFFSETFROM:+0100
TZOFFSETTO:+0200
TZNAME:CEST
DTSTART:20250330T010000
END:DAYLIGHT
BEGIN:STANDARD
TZOFFSETFROM:+0200
TZOFFSETTO:+0100
TZNAME:CET
DTSTART:20251026T010000
END:STANDARD
END:VTIMEZONE
BEGIN:VEVENT
DTSTART;TZID=Europe/Berlin:20240607T180000
DTEND;TZID=Europe/Berlin:20240607T210000
DTSTAMP:20260419T230253
CREATED:20220217T182746Z
LAST-MODIFIED:20250204T110654Z
UID:3112-1717783200-1717794000@queeres-zentrum-goettingen.de
SUMMARY:Trans* Frauen Göttingen
DESCRIPTION:Wir sind eine Gruppe von und für binäre und nicht-binäre trans* Frauen aus Göttingen und dem Göttinger Umland\, die sich zweimal im Monat treffen\, um uns zu verschiedenen Themen zu informieren bzw. informieren zu lassen\, Erfahrungen auszutauschen und uns gegenseitig zu empowern.\nDarüber hinaus wollen wir zusammen auch Spaß und einfach ein geselliges Beisammensein haben. \nTreffen finden regelmäßig am ersten Freitag im Monat und am dritten Mittwoch im Monat statt. \nKontakt: trans.frauen.goettingen@gmail.com \nIhr könnt euch jetzt für die Mailingliste registrieren bzw. diese abonnieren. \nUnd wenn ihr wichtige Infos an alle Abonnent* innen teilen wollt\, dann schreibt an transfrauengoettingen@lists.riseup.net
URL:https://queeres-zentrum-goettingen.de/event/trans-frauen-goettingen/2024-06-07/
LOCATION:Queeres Zentrum Göttingen\, Hospitalstr. 20\, Göttingen\, 37073\, Deutschland
CATEGORIES:queer,Trans,Trans* Frauen
ATTACH;FMTTYPE=image/jpeg:https://queeres-zentrum-goettingen.de/wp-content/uploads/2022/02/transfrauen-e1646839798182.jpg
ORGANIZER;CN="Trans* Frauen G%C3%B6ttingen":MAILTO:trans.Frauen@queeres-zentrum-goettingen.de
END:VEVENT
BEGIN:VEVENT
DTSTART;TZID=Europe/Berlin:20240608T140000
DTEND;TZID=Europe/Berlin:20240608T190000
DTSTAMP:20260419T230253
CREATED:20230112T164233Z
LAST-MODIFIED:20250403T084844Z
UID:7061-1717855200-1717873200@queeres-zentrum-goettingen.de
SUMMARY:Offener Queerer Spielenachmittag
DESCRIPTION:Immer am zweiten Samstag im Monat ist ab 14 Uhr Spielenachmittag im AStA-Gebäude (Goßlerstraße 16a). \nAlle sind herzlich willkommen dabei zu sein – kommt gerne vorbei! Wie lang der Nachmittag geht ist immer unterschiedlich und hängt von den Personen ab\, ebenso wie von den gespielten Spielen.\nEs gibt vor Ort viele Spiele\, aber wenn ihr ein bestimmtes Spiel endlich mal spielen wollt\, könnt ihr dieses natürlich auch mitbringen. \nWem der Samstagstermin nicht passt oder wer noch nicht genug vom Spielen hat: Immer am 4. Mittwoch im Monat treffen wir uns um 19 Uhr im Queeren Zentrum für den offenen queeren Spieleabend. \nHinweis zum Hygienekonzept: Bitte bringt einen Corona-Selbsttest und eine FFP2-Maske mit und testet euch vor Ort.
URL:https://queeres-zentrum-goettingen.de/event/offener-queerer-spielenachmittag/2024-06-08/
LOCATION:AStA\, Goßlerstraße 16a\, Göttingen\, 37073
CATEGORIES:Gruppen,queer,Spielen + Quiz
ATTACH;FMTTYPE=image/png:https://queeres-zentrum-goettingen.de/wp-content/uploads/2022/04/Queerer_spieleabend-e1650987349780.png
END:VEVENT
BEGIN:VEVENT
DTSTART;TZID=Europe/Berlin:20240616T190000
DTEND;TZID=Europe/Berlin:20240616T200000
DTSTAMP:20260419T230253
CREATED:20240527T124752Z
LAST-MODIFIED:20240527T124752Z
UID:6103-1718564400-1718568000@queeres-zentrum-goettingen.de
SUMMARY:Projektgottesdienst: Queer & Kreuz
DESCRIPTION:Viel zu lange und an zu vielen Orten fühlen sich Menschen abgelehnt\, wenn sie nicht über bestimmte Privilegien verfügen. Doch Jesus reißt diese verletzenden sozialen Barrieren nieder und zeigt besondere Anteilnahme für benachteiligte Menschen. In diesem Queer-Gottesdienst wollen wir Gottes Liebe zu allen Menschen feiern und bejahen\, unabhängig von Geschlecht und Orientierung. Trans\, queer\, nichtbinär\, inter\, homo\, hetero\, bi\, asexuell: Wir sind alle herzlich willkommen! Wir\, Menschen verschiedener Konfessionen\, feiern den Queer-Gottesdienst am 16.6. um 19:00 Uhr in der St. Nikolai Kirche. Hinterher gibt es was zu essen\, und wir können uns austauschen. \nMehr Informationen hier: https://www.esg-goettingen.de/Programm/termininhalt?id=03972858-af40-4d6b-8874-121d2d6e53da
URL:https://queeres-zentrum-goettingen.de/event/projektgottesdienst-queer-kreuz/
LOCATION:Nikolaikirche\, Nikolaikirchhof\, Göttingen\, Niedersachsen\, 37073\, Deutschland
CATEGORIES:Externe Veranstaltungen
ATTACH;FMTTYPE=image/png:https://queeres-zentrum-goettingen.de/wp-content/uploads/2024/05/Kreuz-und-Queer.png
END:VEVENT
BEGIN:VEVENT
DTSTART;TZID=Europe/Berlin:20240619T180000
DTEND;TZID=Europe/Berlin:20240619T210000
DTSTAMP:20260419T230253
CREATED:20220217T182746Z
LAST-MODIFIED:20250204T110655Z
UID:3972-1718820000-1718830800@queeres-zentrum-goettingen.de
SUMMARY:Trans* Frauen Göttingen
DESCRIPTION:Wir sind eine Gruppe von und für binäre und nicht-binäre trans* Frauen aus Göttingen und dem Göttinger Umland\, die sich zweimal im Monat treffen\, um uns zu verschiedenen Themen zu informieren bzw. informieren zu lassen\, Erfahrungen auszutauschen und uns gegenseitig zu empowern.\nDarüber hinaus wollen wir zusammen auch Spaß und einfach ein geselliges Beisammensein haben. \nTreffen finden regelmäßig am ersten Freitag im Monat und am dritten Mittwoch im Monat statt. \nKontakt: trans.frauen.goettingen@gmail.com \nIhr könnt euch jetzt für die Mailingliste registrieren bzw. diese abonnieren. \nUnd wenn ihr wichtige Infos an alle Abonnent* innen teilen wollt\, dann schreibt an transfrauengoettingen@lists.riseup.net
URL:https://queeres-zentrum-goettingen.de/event/trans-frauen-goettingen/2024-06-19/
LOCATION:Queeres Zentrum Göttingen\, Hospitalstr. 20\, Göttingen\, 37073\, Deutschland
CATEGORIES:queer,Trans,Trans* Frauen
ATTACH;FMTTYPE=image/jpeg:https://queeres-zentrum-goettingen.de/wp-content/uploads/2022/02/transfrauen-e1646839798182.jpg
ORGANIZER;CN="Trans* Frauen G%C3%B6ttingen":MAILTO:trans.Frauen@queeres-zentrum-goettingen.de
END:VEVENT
BEGIN:VEVENT
DTSTART;TZID=Europe/Berlin:20240620T180000
DTEND;TZID=Europe/Berlin:20240620T200000
DTSTAMP:20260419T230253
CREATED:20240129T132940Z
LAST-MODIFIED:20240129T132940Z
UID:5579-1718906400-1718913600@queeres-zentrum-goettingen.de
SUMMARY:Bi+ MeetUp
DESCRIPTION:June 2oth\, 6 – 8 pm\n \nLet’s meet! Our open and informal MeetUp is open to everyone – no matter where you are on the bi/pan spectrum or if you’re not sure – no matter if you don’t know all these terms but want to learn more about them – no matter if you’ve been there before or want to join us for the first time- everyone is welcome! 💗💜💙 \nWe look forward to seeing you! \nFeel free to email questions to bigoettingen@gmail.com \n  \n*This event is planned bilingual in English and German.* \n  \nEveryone is welcome in our group – all queers and allies – we are open to all ages\, gender identities\, sexual/romantic orientations\, cultural and ethnic affiliations\, neurodiversities\, physical & psychological diversities – the main thing is that you are open to diversity! \n  \n20. Juni\, 18 – 20 Uhr  \nLet’s meet! Zu unserem offenen und informellen MeetUp kann jede*r nach Lust und Laune dabei sein – egal wo auf dem bi-/pan-Spektrum du dich verortest oder dir dabei nicht sicher bist – egal ob du diese ganzen Begriffe noch gar nicht kennst\, aber mal mehr darüber erfahren möchtest – egal ob du schon einmal dabei warst oder neu dazu stoßen möchtest – jede*r ist herzlich willkommen! 💗💜💙 \nWir freuen uns auf Euch! \nFragen gerne per E-Mail an bigoettingen@gmail.com \n*dieses Event ist zweisprachig Deutsch-Englisch geplant*
URL:https://queeres-zentrum-goettingen.de/event/bi-meetup-2/
CATEGORIES:Bi+,Gruppen
ATTACH;FMTTYPE=image/jpeg:https://queeres-zentrum-goettingen.de/wp-content/uploads/2022/03/biplus_minibild.jpg
END:VEVENT
BEGIN:VEVENT
DTSTART;TZID=Europe/Berlin:20240626T190000
DTEND;TZID=Europe/Berlin:20240626T213000
DTSTAMP:20260419T230253
CREATED:20220420T115817Z
LAST-MODIFIED:20230510T192433Z
UID:3267-1719428400-1719437400@queeres-zentrum-goettingen.de
SUMMARY:Offener Queerer Spieleabend
DESCRIPTION:Es gibt wieder einen Spieleabend im Queeren Zentrum! \nImmer am 4. Mittwoch im Monat treffen wir uns um 19 Uhr vor Ort\, um gemeinsam Spiele zu spielen. Falls euch ein Mittwochstermin nicht passt oder euch einmal im Monat spielen nicht reicht\, gibt es noch einen zweiten Termin außerhalb des QZ – immer am zweiten Samstag im Monat ist ab 15 Uhr Spielenachmittag im AStA-Gebäude (Goßlerstraße 16a). \nAlle sind herzlich willkommen dabei zu sein – kommt gerne vorbei! Wie lang der Abend geht ist immer unterschiedlich und hängt von den Personen ab\, ebenso wie von den gespielten Spielen. \nEs gibt vor Ort viele Spiele\, aber wenn ihr ein bestimmtes Spiel endlich mal spielen wollt\, könnt ihr dieses natürlich auch mitbringen. \nHinweis zum Hygienekonzept: Bitte bringt einen Corona-Selbsttest und eine FFP2-Maske mit und testet euch vor Ort.
URL:https://queeres-zentrum-goettingen.de/event/offener-queerer-spieleabend/2024-06-26/
LOCATION:Queeres Zentrum Göttingen\, Hospitalstr. 20\, Göttingen\, 37073\, Deutschland
CATEGORIES:Spielen + Quiz
ATTACH;FMTTYPE=image/jpeg:https://queeres-zentrum-goettingen.de/wp-content/uploads/2022/04/spieleabend_veranstaltung.jpg
END:VEVENT
END:VCALENDAR