BEGIN:VCALENDAR
VERSION:2.0
PRODID:-//Queeres Zentrum Göttingen - ECPv6.15.20//NONSGML v1.0//EN
CALSCALE:GREGORIAN
METHOD:PUBLISH
X-ORIGINAL-URL:https://queeres-zentrum-goettingen.de
X-WR-CALDESC:Veranstaltungen für Queeres Zentrum Göttingen
REFRESH-INTERVAL;VALUE=DURATION:PT1H
X-Robots-Tag:noindex
X-PUBLISHED-TTL:PT1H
BEGIN:VTIMEZONE
TZID:Europe/Berlin
BEGIN:DAYLIGHT
TZOFFSETFROM:+0100
TZOFFSETTO:+0200
TZNAME:CEST
DTSTART:20230326T010000
END:DAYLIGHT
BEGIN:STANDARD
TZOFFSETFROM:+0200
TZOFFSETTO:+0100
TZNAME:CET
DTSTART:20231029T010000
END:STANDARD
BEGIN:DAYLIGHT
TZOFFSETFROM:+0100
TZOFFSETTO:+0200
TZNAME:CEST
DTSTART:20240331T010000
END:DAYLIGHT
BEGIN:STANDARD
TZOFFSETFROM:+0200
TZOFFSETTO:+0100
TZNAME:CET
DTSTART:20241027T010000
END:STANDARD
BEGIN:DAYLIGHT
TZOFFSETFROM:+0100
TZOFFSETTO:+0200
TZNAME:CEST
DTSTART:20250330T010000
END:DAYLIGHT
BEGIN:STANDARD
TZOFFSETFROM:+0200
TZOFFSETTO:+0100
TZNAME:CET
DTSTART:20251026T010000
END:STANDARD
END:VTIMEZONE
BEGIN:VEVENT
DTSTART;TZID=Europe/Berlin:20240524T193000
DTEND;TZID=Europe/Berlin:20240524T233000
DTSTAMP:20260425T053732
CREATED:20240515T094354Z
LAST-MODIFIED:20241023T062246Z
UID:6003-1716579000-1716593400@queeres-zentrum-goettingen.de
SUMMARY:Cheers Queers @Diva Lounge
DESCRIPTION:Cheers Queers organisiert regelmäßig queere Barabende in Göttingen mit dem Ziel einen Rahmen zu schaffen\, in dem sich queere Menschen in einer lockeren Atmosphäre kennenlernen und austauschen können.  Die aktuellen Termine und alle Infos findet ihr auf Instgram (https://www.instagram.com/cheers_queers_goe/) oder im Telegram-Kanal (https://t.me/cheersqueersgoe) \n  \nCheers Queers veranstaltet am 24.05.2024 zum ersten mal ein eigenes Pub Quiz in der Diva Lounge. Kommt gerne alleine oder mit Freunden. Wir wollen um 20:00Uhr mit dem Quiz beginnen\, kommt gerne schon ab 19:30Uhr. Das Quiz wird circa zwei Stunden dauern. Wir freuen uns auf euch!
URL:https://queeres-zentrum-goettingen.de/event/cheers-queers-diva-lounge/
LOCATION:Diva Lounge\, Kurze-Geismar-Straße 9\, Göttingen\, 37073
CATEGORIES:Cheers Queers,queer
ATTACH;FMTTYPE=image/jpeg:https://queeres-zentrum-goettingen.de/wp-content/uploads/2024/05/2.jpg
END:VEVENT
END:VCALENDAR