BEGIN:VCALENDAR
VERSION:2.0
PRODID:-//Queeres Zentrum Göttingen - ECPv6.15.20//NONSGML v1.0//EN
CALSCALE:GREGORIAN
METHOD:PUBLISH
X-WR-CALNAME:Queeres Zentrum Göttingen
X-ORIGINAL-URL:https://queeres-zentrum-goettingen.de
X-WR-CALDESC:Veranstaltungen für Queeres Zentrum Göttingen
REFRESH-INTERVAL;VALUE=DURATION:PT1H
X-Robots-Tag:noindex
X-PUBLISHED-TTL:PT1H
BEGIN:VTIMEZONE
TZID:Europe/Berlin
BEGIN:DAYLIGHT
TZOFFSETFROM:+0100
TZOFFSETTO:+0200
TZNAME:CEST
DTSTART:20250330T010000
END:DAYLIGHT
BEGIN:STANDARD
TZOFFSETFROM:+0200
TZOFFSETTO:+0100
TZNAME:CET
DTSTART:20251026T010000
END:STANDARD
BEGIN:DAYLIGHT
TZOFFSETFROM:+0100
TZOFFSETTO:+0200
TZNAME:CEST
DTSTART:20260329T010000
END:DAYLIGHT
BEGIN:STANDARD
TZOFFSETFROM:+0200
TZOFFSETTO:+0100
TZNAME:CET
DTSTART:20261025T010000
END:STANDARD
BEGIN:DAYLIGHT
TZOFFSETFROM:+0100
TZOFFSETTO:+0200
TZNAME:CEST
DTSTART:20270328T010000
END:DAYLIGHT
BEGIN:STANDARD
TZOFFSETFROM:+0200
TZOFFSETTO:+0100
TZNAME:CET
DTSTART:20271031T010000
END:STANDARD
END:VTIMEZONE
BEGIN:VEVENT
DTSTART;TZID=Europe/Berlin:20260425T113000
DTEND;TZID=Europe/Berlin:20260425T160000
DTSTAMP:20260425T014906
CREATED:20260316T115450Z
LAST-MODIFIED:20260317T092240Z
UID:8413-1777116600-1777132800@queeres-zentrum-goettingen.de
SUMMARY:Flohmarkt im Queeren Zentrum Göttingen
DESCRIPTION:Flohmarkt im Hinterhof des Queeren Zentrums!\n10:30 Uhr Aufbau/ 11:30 Beginn \nWir veranstalten einen Flohmarkt im Hof des Queeren Zentrum am Samstag den 25.04.2026!\nKommt gerne rum zum Verkaufen\, Stöbern oder auf einen Kaffee und Kuchen!\nTische können wir bereitstellen\, solange der Vorrat reicht. Die Standgebühr ist ein Kuchen oder ein anderes Fingerfood für unser Buffet! (Bei Regen findet der Flohamrkt drinnen statt.)
URL:https://queeres-zentrum-goettingen.de/event/flohmarkt-im-queeren-zentrum-goettingen/
ATTACH;FMTTYPE=image/png:https://queeres-zentrum-goettingen.de/wp-content/uploads/2026/03/1-2.png
END:VEVENT
BEGIN:VEVENT
DTSTART;TZID=Europe/Berlin:20260425T140000
DTEND;TZID=Europe/Berlin:20260425T170000
DTSTAMP:20260425T014906
CREATED:20240118T160554Z
LAST-MODIFIED:20260422T080925Z
UID:7953-1777125600-1777136400@queeres-zentrum-goettingen.de
SUMMARY:Trans* & Enby Empowerment-Gruppe
DESCRIPTION:Du bist trans*\, nichtbinär\, abinär\, genderqueer – oder fragst dich\, ob das auf dich zutrifft? Dann bist du herzlich willkommen bei uns. \n  \nWir treffen uns einmal im Monat\, um Erfahrungen zu teilen\, Fragen loszuwerden und uns gegenseitig zu stärken. Ob es um Alltag\, Coming-out\, Gesundheit\, Beziehungen\, queere Geschlechtsidentität oder einfach ums Zusammensein geht – alles hat Platz. \n  \n📍 Jeden 4. Samstag im Monat\, 14 Uhr\, Queeres Zentrum Göttingen (am 25.04 findet das Treffen im Stadtjugendring statt) \n✉️ Fragen? trans-enby-austausch@queeres-goettingen.de \n  \nDas Zentrum ist barrierefrei (Aufzug\, rollstuhlgerechte und genderneutrale Toilette). \n  \nAnsprechpersonen: Tim und Niki
URL:https://queeres-zentrum-goettingen.de/event/trans-enby-empowerment-gruppe-2/2026-04-25/
CATEGORIES:Gruppen,queer,Trans
ATTACH;FMTTYPE=image/png:https://queeres-zentrum-goettingen.de/wp-content/uploads/2024/01/Kein-Titel-Instagram-Post-459.png
END:VEVENT
END:VCALENDAR